Workbook
Name startday: #REF!
Name valuevx: 42.314159

Sheet Instructions
A1: Timesheet Instructions
A3: Every district employee must use the latest version of the timesheet forms contained in this document for 2026. References are included to cascade information throughout the workbook, formulas are in place to prevent excess leave accrual based on years of service, and many cells have been locked. Information must be entered properly in the January timesheet before using the file to log your work daily.
A5: Go to the January 26 (or applicable beginning month for new employees) tab in the workbook and enter the following information:
A7: In the top section on the worksheet:
A8: District | D8: district name, do not abbreviate
A10: Employee | D10: full name of the employee
A12: Title | D12: official title of the employee
A14: Employee on Monthly Pay | D14: answer Y or N
D15: Y for full-time monthly salaried employee; N for hourly employee
A17: Annual Leave Accrual Rate | D17: enter numerical digits only, see chart below
A18: *if the employee accrues leave | D18: 10 | E18: Less than 5 years
D19: 12 | E19: 5 to 10 years
D20: 13.33 | E20: 10 to 20 years
D21: 16.67 | E21: 20 years or more
A23: Annual Leave Accrual Maximum | D23: enter numerical digits only, see chart below
A24: *if the employee accrues leave | D24: 360 | E24: Less than 5 years = 360
D25: 784 | E25: 5 to 10 years = 784
D26: 800 | E26: 10 to 20 years = 800
D27: 840 | E27: 20 years or more = 840
A29: Sick Leave Accrual Rate | D29: enter numerical digits only
A30: *if the employee accrues leave | D30: 10 | E30: All full-time employees regardless of years of service
A33: In the bottom section of the January 26 worksheet in the Leave Summary area:
A34: Enter the ending balance of hours (numerical digits only) from your December 2025 timesheet in the Forward column as the beginning balance for each of the following.
A35: Annual Leave (AL)
A36: Sick Leave (SL)
A37: Comp Time (CT)
A39: Note: The file is designed to cascade through all tabs. You should only need to enter the information in the top section and the beginning leave balances in the Leave Summary area once unless something occurs during the year that affects leave accrual rates or pay status. If you are accruing leave and any cells in the Leave Summary Section are highlighted in red, there is an error on your timesheet that you must correct.
A41: After you have set up the file, enter a brief description of your tasks and log the hours in the appropriate column each work day, do not copy and paste data from one cell to another.
C42: Type of Hours: | D42: Reg | E42: Regular Hours Worked | H42: CTA | I42: Comp Time Accrued
D43: AL | E43: Annual Leave | H43: CTU | I43: Comp Time Used
D44: SL | E44: Sick Leave | H44: LWOP | I44: Leave Without Pay
D45: H | E45: Holiday Pay
A47: Signatures from the Employee and District Director Representative (normally the chair) are required each month, the OCC/NRCS Supervisor Signature is only required for jointly supervised employees (ex: ADCs, Land Management Techs, Shared Technicians, Shared Administrative Assistants, Farm Bill Specialist, etc.)
A49: Please contact your ADC for assistance if you encounter an error message (#REF) in any workbook cell. DO NOT submit a timesheet to the OCC that contains a formula error; DO NOT submit a timesheet that shows a red shaded cell unless you are an employee that does not accrue leave.

Sheet January 26
A1: Activity Timesheet & Leave Record
A3: District: | E3: Available Working Hours in Month* | J3: 176
E4: *hours in pay status may not exceed this amount for OCC reimbursement
A5: Employee: | E5: Employee on Monthly Pay
E6: *enter "Y" for yes; "N" for no
A7: Title: | E7: Annual Leave Accrual Rate
E8: Annual Leave Accrual Maximum | J8: 0
A9: Month-Year: | B9: 46023 | E9: Sick Leave Accrual Rate
A12: Day of Week | B12: Activities | C12: Reg | D12: AL | E12: SL | F12: H | G12: CTA | H12: CTU | I12: LWOP | J12: TOTAL Hrs in Pay Status
A13: =B9 -> 46023 | J13: =SUM(C13+D13+E13+F13+H13) -> 0
A14: =A13+1 -> 46024 | J14: =SUM(C14+D14+E14+F14+H14) -> 0
A15: =A14+1 -> 46025 | J15: =SUM(C15+D15+E15+F15+H15) -> 0
A16: =A15+1 -> 46026 | J16: =SUM(C16+D16+E16+F16+H16) -> 0
A17: =A16+1 -> 46027 | J17: =SUM(C17+D17+E17+F17+H17) -> 0
A18: =A17+1 -> 46028 | J18: =SUM(C18+D18+E18+F18+H18) -> 0
A19: =A18+1 -> 46029 | J19: =SUM(C19+D19+E19+F19+H19) -> 0
A20: =A19+1 -> 46030 | J20: =SUM(C20+D20+E20+F20+H20) -> 0
A21: =A20+1 -> 46031 | J21: =SUM(C21+D21+E21+F21+H21) -> 0
A22: =A21+1 -> 46032 | J22: =SUM(C22+D22+E22+F22+H22) -> 0
A23: =A22+1 -> 46033 | J23: =SUM(C23+D23+E23+F23+H23) -> 0
A24: =A23+1 -> 46034 | J24: =SUM(C24+D24+E24+F24+H24) -> 0
A25: =A24+1 -> 46035 | J25: =SUM(C25+D25+E25+F25+H25) -> 0
... A43: =A42+1 -> 46053 | J43: =SUM(C43+D43+E43+F43+H43) -> 0
A44: Total Hrs in Pay Status:** | J44: =SUM(J13:J43) -> 0
A45: ** For those employees on actual hours worked, "Total Hrs in Pay Status" on this form should match "Total Hours in Pay Status" on form OCC-5D (District Employee Payroll Worksheet)
A46: Total Hrs Reported Per Category: | C46: =SUM(C13:C43) -> 0 | D46: =SUM(D13:D43) -> 0 | E46: =SUM(E13:E43) -> 0 | F46: =SUM(F13:F43) -> 0 | G46: =SUM(G13:G43) -> 0 | H46: =SUM(H13:H43) -> 0 | I46: =SUM(I13:I43) -> 0
A48: Leave Summary
C50: Forward | E50: Used | G50: Accrual | I50: Ending
A51: Annual Leave (AL) | C51: 0 | E51: =D46 -> 0 | G51: =IF(J5="Y",J7,(MIN(J7,(SUM(J44/J3)*J7)))) -> 0 | J51: =MIN(J8,(C51-E51+G51)) -> 0
A52: Sick Leave (SL) | C52: 0 | E52: =E46 -> 0 | G52: =IF(J5="Y",J9,(MIN(J9,(SUM(J44/J3)*J9)))) -> 0 | J52: =C52-E52+G52 -> 0
A53: Comp Time (CT) | C53: 0 | E53: =H46 -> 0 | G53: =G46 -> 0 | J53: =C53-E53+G53 -> 0
A58: Employee Signature | D58: Date
A61: OCC/NRCS Supervisor Signature (if applicable) | D61: Date
A64: District Board of Directors Representative Signature | D64: Date

Sheet February 26
A1: Activity Timesheet & Leave Record
A3: District: | B3: ='January 26'!B3 -> 0 | E3: Available Working Hours in Month* | J3: 160
E4: *hours in pay status may not exceed this amount for OCC reimbursement
A5: Employee: | B5: ='January 26'!B5 -> 0 | E5: Employee on Monthly Pay | J5: ='January 26'!J5 -> 0
E6: *enter "Y" for yes; "N" for no
A7: Title: | B7: ='January 26'!B7 -> 0 | E7: Annual Leave Accrual Rate | J7: ='January 26'!J7 -> 0
E8: Annual Leave Accrual Maximum | J8: ='January 26'!J8 -> 0
A9: Month-Year: | B9: 46054 | E9: Sick Leave Accrual Rate | J9: ='January 26'!J9 -> 0
A12: Day of Week | B12: Activities | C12: Reg | D12: AL | E12: SL | F12: H | G12: CTA | H12: CTU | I12: LWOP | J12: TOTAL Hrs in Pay Status
A13: =B9 -> 46054 | J13: =SUM(C13+D13+E13+F13+H13) -> 0
A14: =A13+1 -> 46055 | J14: =SUM(C14+D14+E14+F14+H14) -> 0
A15: =A14+1 -> 46056 | J15: =SUM(C15+D15+E15+F15+H15) -> 0
A16: =A15+1 -> 46057 | J16: =SUM(C16+D16+E16+F16+H16) -> 0
A17: =A16+1 -> 46058 | J17: =SUM(C17+D17+E17+F17+H17) -> 0
A18: =A17+1 -> 46059 | J18: =SUM(C18+D18+E18+F18+H18) -> 0
A19: =A18+1 -> 46060 | J19: =SUM(C19+D19+E19+F19+H19) -> 0
A20: =A19+1 -> 46061 | J20: =SUM(C20+D20+E20+F20+H20) -> 0
A21: =A20+1 -> 46062 | J21: =SUM(C21+D21+E21+F21+H21) -> 0
A22: =A21+1 -> 46063 | J22: =SUM(C22+D22+E22+F22+H22) -> 0
A23: =A22+1 -> 46064 | J23: =SUM(C23+D23+E23+F23+H23) -> 0
A24: =A23+1 -> 46065 | J24: =SUM(C24+D24+E24+F24+H24) -> 0
A25: =A24+1 -> 46066 | J25: =SUM(C25+D25+E25+F25+H25) -> 0
... A40: =A39+1 -> 46081 | J40: =SUM(C40+D40+E40+F40+H40) -> 0
J41: =SUM(C41+D41+E41+F41+H41) -> 0
J42: =SUM(C42+D42+E42+F42+H42) -> 0
J43: =SUM(C43+D43+E43+F43+H43) -> 0
A44: Total Hrs in Pay Status:** | J44: =SUM(J13:J43) -> 0
A45: ** For those employees on actual hours worked, "Total Hrs in Pay Status" on this form should match "Total Hours in Pay Status" on form OCC-5D (District Employee Payroll Worksheet)
A46: Total Hrs Reported Per Category: | C46: =SUM(C13:C43) -> 0 | D46: =SUM(D13:D43) -> 0 | E46: =SUM(E13:E43) -> 0 | F46: =SUM(F13:F43) -> 0 | G46: =SUM(G13:G43) -> 0 | H46: =SUM(H13:H43) -> 0 | I46: =SUM(I13:I43) -> 0
A48: Leave Summary
C50: Forward | E50: Used | G50: Accrual | I50: Ending
A51: Annual Leave (AL) | C51: ='January 26'!J51 -> 0 | E51: =D46 -> 0 | G51: =IF(J5="Y",J7,(MIN(J7,(SUM(J44/J3)*J7)))) -> 0 | J51: =MIN(J8,(C51-E51+G51)) -> 0
A52: Sick Leave (SL) | C52: ='January 26'!J52 -> 0 | E52: =E46 -> 0 | G52: =IF(J5="Y",J9,(MIN(J9,(SUM(J44/J3)*J9)))) -> 0 | J52: =C52-E52+G52 -> 0
A53: Comp Time (CT) | C53: ='January 26'!J53 -> 0 | E53: =H46 -> 0 | G53: =G46 -> 0 | J53: =C53-E53+G53 -> 0
A58: Employee Signature | D58: Date
A61: OCC/NRCS Supervisor Signature (if applicable) | D61: Date
A64: Supervisor Signature | D64: Date

Sheet March 26
A1: Activity Timesheet & Leave Record
A3: District: | B3: ='February 26'!B3 -> 0 | E3: Available Working Hours in Month* | J3: 176
E4: *hours in pay status may not exceed this amount for OCC reimbursement
A5: Employee: | B5: ='February 26'!B5 -> 0 | E5: Employee on Monthly Pay | J5: ='February 26'!J5 -> 0
E6: *enter "Y" for yes; "N" for no
A7: Title: | B7: ='February 26'!B7 -> 0 | E7: Annual Leave Accrual Rate | J7: ='February 26'!J7 -> 0
E8: Annual Leave Accrual Maximum | J8: ='February 26'!J8 -> 0
A9: Month-Year: | B9: 46082 | E9: Sick Leave Accrual Rate | J9: ='February 26'!J9 -> 0
A12: Day of Week | B12: Activities | C12: Reg | D12: AL | E12: SL | F12: H | G12: CTA | H12: CTU | I12: LWOP | J12: TOTAL Hrs in Pay Status
A13: =B9 -> 46082 | J13: =SUM(C13+D13+E13+F13+H13) -> 0
A14: =A13+1 -> 46083 | J14: =SUM(C14+D14+E14+F14+H14) -> 0
A15: =A14+1 -> 46084 | J15: =SUM(C15+D15+E15+F15+H15) -> 0
A16: =A15+1 -> 46085 | J16: =SUM(C16+D16+E16+F16+H16) -> 0
A17: =A16+1 -> 46086 | J17: =SUM(C17+D17+E17+F17+H17) -> 0
A18: =A17+1 -> 46087 | J18: =SUM(C18+D18+E18+F18+H18) -> 0
A19: =A18+1 -> 46088 | J19: =SUM(C19+D19+E19+F19+H19) -> 0
A20: =A19+1 -> 46089 | J20: =SUM(C20+D20+E20+F20+H20) -> 0
A21: =A20+1 -> 46090 | J21: =SUM(C21+D21+E21+F21+H21) -> 0
A22: =A21+1 -> 46091 | J22: =SUM(C22+D22+E22+F22+H22) -> 0
A23: =A22+1 -> 46092 | J23: =SUM(C23+D23+E23+F23+H23) -> 0
A24: =A23+1 -> 46093 | J24: =SUM(C24+D24+E24+F24+H24) -> 0
A25: =A24+1 -> 46094 | J25: =SUM(C25+D25+E25+F25+H25) -> 0
... A43: =A42+1 -> 46112 | J43: =SUM(C43+D43+E43+F43+H43) -> 0
A44: Total Hrs in Pay Status:** | J44: =SUM(J13:J43) -> 0
A45: ** For those employees on actual hours worked, "Total Hrs in Pay Status" on this form should match "Total Hours in Pay Status" on form OCC-5D (District Employee Payroll Worksheet)
A46: Total Hrs Reported Per Category: | C46: =SUM(C13:C43) -> 0 | D46: =SUM(D13:D43) -> 0 | E46: =SUM(E13:E43) -> 0 | F46: =SUM(F13:F43) -> 0 | G46: =SUM(G13:G43) -> 0 | H46: =SUM(H13:H43) -> 0 | I46: =SUM(I13:I43) -> 0
A48: Leave Summary
C50: Forward | E50: Used | G50: Accrual | I50: Ending
A51: Annual Leave (AL) | C51: ='February 26'!J51 -> 0 | E51: =D46 -> 0 | G51: =IF(J5="Y",J7,(MIN(J7,(SUM(J44/J3)*J7)))) -> 0 | J51: =MIN(J8,(C51-E51+G51)) -> 0
A52: Sick Leave (SL) | C52: ='February 26'!J52 -> 0 | E52: =E46 -> 0 | G52: =IF(J5="Y",J9,(MIN(J9,(SUM(J44/J3)*J9)))) -> 0 | J52: =C52-E52+G52 -> 0
A53: Comp Time (CT) | C53: ='February 26'!J53 -> 0 | E53: =H46 -> 0 | G53: =G46 -> 0 | J53: =C53-E53+G53 -> 0
A58: Employee Signature | D58: Date
A61: OCC/NRCS Supervisor Signature (if applicable) | D61: Date
A64: Supervisor Signature | D64: Date

Sheet April 26
A1: Activity Timesheet & Leave Record
A3: District: | B3: ='March 26'!B3 -> 0 | E3: Available Working Hours in Month* | J3: 176
E4: *hours in pay status may not exceed this amount for OCC reimbursement
A5: Employee: | B5: ='March 26'!B5 -> 0 | E5: Employee on Monthly Pay | J5: ='March 26'!J5 -> 0
E6: *enter "Y" for yes; "N" for no
A7: Title: | B7: ='March 26'!B7 -> 0 | E7: Annual Leave Accrual Rate | J7: ='March 26'!J7 -> 0
E8: Annual Leave Accrual Maximum | J8: ='March 26'!J8 -> 0
A9: Month-Year: | B9: 46113 | E9: Sick Leave Accrual Rate | J9: ='March 26'!J9 -> 0
A12: Day of Week | B12: Activities | C12: Reg | D12: AL | E12: SL | F12: H | G12: CTA | H12: CTU | I12: LWOP | J12: TOTAL Hrs in Pay Status
A13: =B9 -> 46113 | J13: =SUM(C13+D13+E13+F13+H13) -> 0
A14: =A13+1 -> 46114 | J14: =SUM(C14+D14+E14+F14+H14) -> 0
A15: =A14+1 -> 46115 | J15: =SUM(C15+D15+E15+F15+H15) -> 0
A16: =A15+1 -> 46116 | J16: =SUM(C16+D16+E16+F16+H16) -> 0
A17: =A16+1 -> 46117 | J17: =SUM(C17+D17+E17+F17+H17) -> 0
A18: =A17+1 -> 46118 | J18: =SUM(C18+D18+E18+F18+H18) -> 0
A19: =A18+1 -> 46119 | J19: =SUM(C19+D19+E19+F19+H19) -> 0
A20: =A19+1 -> 46120 | J20: =SUM(C20+D20+E20+F20+H20) -> 0
A21: =A20+1 -> 46121 | J21: =SUM(C21+D21+E21+F21+H21) -> 0
A22: =A21+1 -> 46122 | J22: =SUM(C22+D22+E22+F22+H22) -> 0
A23: =A22+1 -> 46123 | J23: =SUM(C23+D23+E23+F23+H23) -> 0
A24: =A23+1 -> 46124 | J24: =SUM(C24+D24+E24+F24+H24) -> 0
A25: =A24+1 -> 46125 | J25: =SUM(C25+D25+E25+F25+H25) -> 0
... A42: =A41+1 -> 46142 | J42: =SUM(C42+D42+E42+F42+H42) -> 0
J43: =SUM(C43+D43+E43+F43+H43) -> 0
A44: Total Hrs in Pay Status:** | J44: =SUM(J13:J43) -> 0
A45: ** For those employees on actual hours worked, "Total Hrs in Pay Status" on this form should match "Total Hours in Pay Status" on form OCC-5D (District Employee Payroll Worksheet)
A46: Total Hrs Reported Per Category: | C46: =SUM(C13:C43) -> 0 | D46: =SUM(D13:D43) -> 0 | E46: =SUM(E13:E43) -> 0 | F46: =SUM(F13:F43) -> 0 | G46: =SUM(G13:G43) -> 0 | H46: =SUM(H13:H43) -> 0 | I46: =SUM(I13:I43) -> 0
A48: Leave Summary
C50: Forward | E50: Used | G50: Accrual | I50: Ending
A51: Annual Leave (AL) | C51: ='March 26'!J51 -> 0 | E51: =D46 -> 0 | G51: =IF(J5="Y",J7,(MIN(J7,(SUM(J44/J3)*J7)))) -> 0 | J51: =MIN(J8,(C51-E51+G51)) -> 0
A52: Sick Leave (SL) | C52: ='March 26'!J52 -> 0 | E52: =E46 -> 0 | G52: =IF(J5="Y",J9,(MIN(J9,(SUM(J44/J3)*J9)))) -> 0 | J52: =C52-E52+G52 -> 0
A53: Comp Time (CT) | C53: ='March 26'!J53 -> 0 | E53: =H46 -> 0 | G53: =G46 -> 0 | J53: =C53-E53+G53 -> 0
A58: Employee Signature | D58: Date
A61: OCC/NRCS Supervisor Signature (if applicable) | D61: Date
A64: Supervisor Signature | D64: Date

Sheet May 26
A1: Activity Timesheet & Leave Record
A3: District: | B3: ='April 26'!B3 -> 0 | E3: Available Working Hours in Month* | J3: 168
E4: *hours in pay status may not exceed this amount for OCC reimbursement
A5: Employee: | B5: ='April 26'!B5 -> 0 | E5: Employee on Monthly Pay | J5: ='April 26'!J5 -> 0
E6: *enter "Y" for yes; "N" for no
A7: Title: | B7: ='April 26'!B7 -> 0 | E7: Annual Leave Accrual Rate | J7: ='April 26'!J7 -> 0
E8: Annual Leave Accrual Maximum | J8: ='April 26'!J8 -> 0
A9: Month-Year: | B9: 46143 | E9: Sick Leave Accrual Rate | J9: ='April 26'!J9 -> 0
A12: Day of Week | B12: Activities | C12: Reg | D12: AL | E12: SL | F12: H | G12: CTA | H12: CTU | I12: LWOP | J12: TOTAL Hrs in Pay Status
A13: =B9 -> 46143 | J13: =SUM(C13+D13+E13+F13+H13) -> 0
A14: =A13+1 -> 46144 | J14: =SUM(C14+D14+E14+F14+H14) -> 0
A15: =A14+1 -> 46145 | J15: =SUM(C15+D15+E15+F15+H15) -> 0
A16: =A15+1 -> 46146 | J16: =SUM(C16+D16+E16+F16+H16) -> 0
A17: =A16+1 -> 46147 | J17: =SUM(C17+D17+E17+F17+H17) -> 0
A18: =A17+1 -> 46148 | J18: =SUM(C18+D18+E18+F18+H18) -> 0
A19: =A18+1 -> 46149 | J19: =SUM(C19+D19+E19+F19+H19) -> 0
A20: =A19+1 -> 46150 | J20: =SUM(C20+D20+E20+F20+H20) -> 0
A21: =A20+1 -> 46151 | J21: =SUM(C21+D21+E21+F21+H21) -> 0
A22: =A21+1 -> 46152 | J22: =SUM(C22+D22+E22+F22+H22) -> 0
A23: =A22+1 -> 46153 | J23: =SUM(C23+D23+E23+F23+H23) -> 0
A24: =A23+1 -> 46154 | J24: =SUM(C24+D24+E24+F24+H24) -> 0
A25: =A24+1 -> 46155 | J25: =SUM(C25+D25+E25+F25+H25) -> 0
... A43: =A42+1 -> 46173 | J43: =SUM(C43+D43+E43+F43+H43) -> 0
A44: Total Hrs in Pay Status:** | J44: =SUM(J13:J43) -> 0
A45: ** For those employees on actual hours worked, "Total Hrs in Pay Status" on this form should match "Total Hours in Pay Status" on form OCC-5D (District Employee Payroll Worksheet)
A46: Total Hrs Reported Per Category: | C46: =SUM(C13:C43) -> 0 | D46: =SUM(D13:D43) -> 0 | E46: =SUM(E13:E43) -> 0 | F46: =SUM(F13:F43) -> 0 | G46: =SUM(G13:G43) -> 0 | H46: =SUM(H13:H43) -> 0 | I46: =SUM(I13:I43) -> 0
A48: Leave Summary
C50: Forward | E50: Used | G50: Accrual | I50: Ending
A51: Annual Leave (AL) | C51: ='April 26'!J51 -> 0 | E51: =D46 -> 0 | G51: =IF(J5="Y",J7,(MIN(J7,(SUM(J44/J3)*J7)))) -> 0 | J51: =MIN(J8,(C51-E51+G51)) -> 0
A52: Sick Leave (SL) | C52: ='April 26'!J52 -> 0 | E52: =E46 -> 0 | G52: =IF(J5="Y",J9,(MIN(J9,(SUM(J44/J3)*J9)))) -> 0 | J52: =C52-E52+G52 -> 0
A53: Comp Time (CT) | C53: ='April 26'!J53 -> 0 | E53: =H46 -> 0 | G53: =G46 -> 0 | J53: =C53-E53+G53 -> 0
A58: Employee Signature | D58: Date
A61: OCC/NRCS Supervisor Signature (if applicable) | D61: Date
A64: Supervisor Signature | D64: Date

Sheet June 26
A1: Activity Timesheet & Leave Record
A3: District: | B3: ='May 26'!B3 -> 0 | E3: Available Working Hours in Month* | J3: 176
E4: *hours in pay status may not exceed this amount for OCC reimbursement
A5: Employee: | B5: ='May 26'!B5 -> 0 | E5: Employee on Monthly Pay | J5: ='May 26'!J5 -> 0
E6: *enter "Y" for yes; "N" for no
A7: Title: | B7: ='May 26'!B7 -> 0 | E7: Annual Leave Accrual Rate | J7: ='May 26'!J7 -> 0
E8: Annual Leave Accrual Maximum | J8: ='May 26'!J8 -> 0
A9: Month-Year: | B9: 46174 | E9: Sick Leave Accrual Rate | J9: ='May 26'!J9 -> 0
A12: Day of Week | B12: Activities | C12: Reg | D12: AL | E12: SL | F12: H | G12: CTA | H12: CTU | I12: LWOP | J12: TOTAL Hrs in Pay Status
A13: =B9 -> 46174 | J13: =SUM(C13+D13+E13+F13+H13) -> 0
A14: =A13+1 -> 46175 | J14: =SUM(C14+D14+E14+F14+H14) -> 0
A15: =A14+1 -> 46176 | J15: =SUM(C15+D15+E15+F15+H15) -> 0
A16: =A15+1 -> 46177 | J16: =SUM(C16+D16+E16+F16+H16) -> 0
A17: =A16+1 -> 46178 | J17: =SUM(C17+D17+E17+F17+H17) -> 0
A18: =A17+1 -> 46179 | J18: =SUM(C18+D18+E18+F18+H18) -> 0
A19: =A18+1 -> 46180 | J19: =SUM(C19+D19+E19+F19+H19) -> 0
A20: =A19+1 -> 46181 | J20: =SUM(C20+D20+E20+F20+H20) -> 0
A21: =A20+1 -> 46182 | J21: =SUM(C21+D21+E21+F21+H21) -> 0
A22: =A21+1 -> 46183 | J22: =SUM(C22+D22+E22+F22+H22) -> 0
A23: =A22+1 -> 46184 | J23: =SUM(C23+D23+E23+F23+H23) -> 0
A24: =A23+1 -> 46185 | J24: =SUM(C24+D24+E24+F24+H24) -> 0
A25: =A24+1 -> 46186 | J25: =SUM(C25+D25+E25+F25+H25) -> 0
... A42: =A41+1 -> 46203 | J42: =SUM(C42+D42+E42+F42+H42) -> 0
J43: =SUM(C43+D43+E43+F43+H43) -> 0
A44: Total Hrs in Pay Status:** | J44: =SUM(J13:J43) -> 0
A45: ** For those employees on actual hours worked, "Total Hrs in Pay Status" on this form should match "Total Hours in Pay Status" on form OCC-5D (District Employee Payroll Worksheet)
A46: Total Hrs Reported Per Category: | C46: =SUM(C13:C43) -> 0 | D46: =SUM(D13:D43) -> 0 | E46: =SUM(E13:E43) -> 0 | F46: =SUM(F13:F43) -> 0 | G46: =SUM(G13:G43) -> 0 | H46: =SUM(H13:H43) -> 0 | I46: =SUM(I13:I43) -> 0
A48: Leave Summary
C50: Forward | E50: Used | G50: Accrual | I50: Ending
A51: Annual Leave (AL) | C51: ='May 26'!J51 -> 0 | E51: =D46 -> 0 | G51: =IF(J5="Y",J7,(MIN(J7,(SUM(J44/J3)*J7)))) -> 0 | J51: =MIN(J8,(C51-E51+G51)) -> 0
A52: Sick Leave (SL) | C52: ='May 26'!J52 -> 0 | E52: =E46 -> 0 | G52: =IF(J5="Y",J9,(MIN(J9,(SUM(J44/J3)*J9)))) -> 0 | J52: =C52-E52+G52 -> 0
A53: Comp Time (CT) | C53: ='May 26'!J53 -> 0 | E53: =H46 -> 0 | G53: =G46 -> 0 | J53: =C53-E53+G53 -> 0
A58: Employee Signature | D58: Date
A61: OCC/NRCS Supervisor Signature (if applicable) | D61: Date
A64: Supervisor Signature | D64: Date

Sheet July 26
A1: Activity Timesheet & Leave Record
A3: District: | B3: ='June 26'!B3 -> 0 | E3: Available Working Hours in Month* | J3: 184
E4: *hours in pay status may not exceed this amount for OCC reimbursement
A5: Employee: | B5: ='June 26'!B5 -> 0 | E5: Employee on Monthly Pay | J5: ='June 26'!J5 -> 0
E6: *enter "Y" for yes; "N" for no
A7: Title: | B7: ='June 26'!B7 -> 0 | E7: Annual Leave Accrual Rate | J7: ='June 26'!J7 -> 0
E8: Annual Leave Accrual Maximum | J8: ='June 26'!J8 -> 0
A9: Month-Year: | B9: 46204 | E9: Sick Leave Accrual Rate | J9: ='June 26'!J9 -> 0
A12: Day of Week | B12: Activities | C12: Reg | D12: AL | E12: SL | F12: H | G12: CTA | H12: CTU | I12: LWOP | J12: TOTAL Hrs in Pay Status
A13: =B9 -> 46204 | J13: =SUM(C13+D13+E13+F13+H13) -> 0
A14: =A13+1 -> 46205 | J14: =SUM(C14+D14+E14+F14+H14) -> 0
A15: =A14+1 -> 46206 | J15: =SUM(C15+D15+E15+F15+H15) -> 0
A16: =A15+1 -> 46207 | J16: =SUM(C16+D16+E16+F16+H16) -> 0
A17: =A16+1 -> 46208 | J17: =SUM(C17+D17+E17+F17+H17) -> 0
A18: =A17+1 -> 46209 | J18: =SUM(C18+D18+E18+F18+H18) -> 0
A19: =A18+1 -> 46210 | J19: =SUM(C19+D19+E19+F19+H19) -> 0
A20: =A19+1 -> 46211 | J20: =SUM(C20+D20+E20+F20+H20) -> 0
A21: =A20+1 -> 46212 | J21: =SUM(C21+D21+E21+F21+H21) -> 0
A22: =A21+1 -> 46213 | J22: =SUM(C22+D22+E22+F22+H22) -> 0
A23: =A22+1 -> 46214 | J23: =SUM(C23+D23+E23+F23+H23) -> 0
A24: =A23+1 -> 46215 | J24: =SUM(C24+D24+E24+F24+H24) -> 0
A25: =A24+1 -> 46216 | J25: =SUM(C25+D25+E25+F25+H25) -> 0
... A43: =A42+1 -> 46234 | J43: =SUM(C43+D43+E43+F43+H43) -> 0
A44: Total Hrs in Pay Status:** | J44: =SUM(J13:J43) -> 0
A45: ** For those employees on actual hours worked, "Total Hrs in Pay Status" on this form should match "Total Hours in Pay Status" on form OCC-5D (District Employee Payroll Worksheet)
A46: Total Hrs Reported Per Category: | C46: =SUM(C13:C43) -> 0 | D46: =SUM(D13:D43) -> 0 | E46: =SUM(E13:E43) -> 0 | F46: =SUM(F13:F43) -> 0 | G46: =SUM(G13:G43) -> 0 | H46: =SUM(H13:H43) -> 0 | I46: =SUM(I13:I43) -> 0
A48: Leave Summary
C50: Forward | E50: Used | G50: Accrual | I50: Ending
A51: Annual Leave (AL) | C51: ='June 26'!J51 -> 0 | E51: =D46 -> 0 | G51: =IF(J5="Y",J7,(MIN(J7,(SUM(J44/J3)*J7)))) -> 0 | J51: =MIN(J8,(C51-E51+G51)) -> 0
A52: Sick Leave (SL) | C52: ='June 26'!J52 -> 0 | E52: =E46 -> 0 | G52: =IF(J5="Y",J9,(MIN(J9,(SUM(J44/J3)*J9)))) -> 0 | J52: =C52-E52+G52 -> 0
A53: Comp Time (CT) | C53: ='June 26'!J53 -> 0 | E53: =H46 -> 0 | G53: =G46 -> 0 | J53: =C53-E53+G53 -> 0
A58: Employee Signature | D58: Date
A61: OCC/NRCS Supervisor Signature (if applicable) | D61: Date
A64: Supervisor Signature | D64: Date

Sheet August 26
A1: Activity Timesheet & Leave Record
A3: District: | B3: ='July 26'!B3 -> 0 | E3: Available Working Hours in Month* | J3: 168
E4: *hours in pay status may not exceed this amount for OCC reimbursement
A5: Employee: | B5: ='July 26'!B5 -> 0 | E5: Employee on Monthly Pay | J5: ='July 26'!J5 -> 0
E6: *enter "Y" for yes; "N" for no
A7: Title: | B7: ='July 26'!B7 -> 0 | E7: Annual Leave Accrual Rate | J7: ='July 26'!J7 -> 0
E8: Annual Leave Accrual Maximum | J8: ='July 26'!J8 -> 0
A9: Month-Year: | B9: 46235 | E9: Sick Leave Accrual Rate | J9: ='July 26'!J9 -> 0
A12: Day of Week | B12: Activities | C12: Reg | D12: AL | E12: SL | F12: H | G12: CTA | H12: CTU | I12: LWOP | J12: TOTAL Hrs in Pay Status
A13: =B9 -> 46235 | J13: =SUM(C13+D13+E13+F13+H13) -> 0
A14: =A13+1 -> 46236 | J14: =SUM(C14+D14+E14+F14+H14) -> 0
A15: =A14+1 -> 46237 | J15: =SUM(C15+D15+E15+F15+H15) -> 0
A16: =A15+1 -> 46238 | J16: =SUM(C16+D16+E16+F16+H16) -> 0
A17: =A16+1 -> 46239 | J17: =SUM(C17+D17+E17+F17+H17) -> 0
A18: =A17+1 -> 46240 | J18: =SUM(C18+D18+E18+F18+H18) -> 0
A19: =A18+1 -> 46241 | J19: =SUM(C19+D19+E19+F19+H19) -> 0
A20: =A19+1 -> 46242 | J20: =SUM(C20+D20+E20+F20+H20) -> 0
A21: =A20+1 -> 46243 | J21: =SUM(C21+D21+E21+F21+H21) -> 0
A22: =A21+1 -> 46244 | J22: =SUM(C22+D22+E22+F22+H22) -> 0
A23: =A22+1 -> 46245 | J23: =SUM(C23+D23+E23+F23+H23) -> 0
A24: =A23+1 -> 46246 | J24: =SUM(C24+D24+E24+F24+H24) -> 0
A25: =A24+1 -> 46247 | J25: =SUM(C25+D25+E25+F25+H25) -> 0
... A43: =A42+1 -> 46265 | J43: =SUM(C43+D43+E43+F43+H43) -> 0
A44: Total Hrs in Pay Status:** | J44: =SUM(J13:J43) -> 0
A45: ** For those employees on actual hours worked, "Total Hrs in Pay Status" on this form should match "Total Hours in Pay Status" on form OCC-5D (District Employee Payroll Worksheet)
A46: Total Hrs Reported Per Category: | C46: =SUM(C13:C43) -> 0 | D46: =SUM(D13:D43) -> 0 | E46: =SUM(E13:E43) -> 0 | F46: =SUM(F13:F43) -> 0 | G46: =SUM(G13:G43) -> 0 | H46: =SUM(H13:H43) -> 0 | I46: =SUM(I13:I43) -> 0
A48: Leave Summary
C50: Forward | E50: Used | G50: Accrual | I50: Ending
A51: Annual Leave (AL) | C51: ='July 26'!J51 -> 0 | E51: =D46 -> 0 | G51: =IF(J5="Y",J7,(MIN(J7,(SUM(J44/J3)*J7)))) -> 0 | J51: =MIN(J8,(C51-E51+G51)) -> 0
A52: Sick Leave (SL) | C52: ='July 26'!J52 -> 0 | E52: =E46 -> 0 | G52: =IF(J5="Y",J9,(MIN(J9,(SUM(J44/J3)*J9)))) -> 0 | J52: =C52-E52+G52 -> 0
A53: Comp Time (CT) | C53: ='July 26'!J53 -> 0 | E53: =H46 -> 0 | G53: =G46 -> 0 | J53: =C53-E53+G53 -> 0
A58: Employee Signature | D58: Date
A61: OCC/NRCS Supervisor Signature (if applicable) | D61: Date
A64: Supervisor Signature | D64: Date

Sheet September 26
A1: Activity Timesheet & Leave Record
A3: District: | B3: ='August 26'!B3 -> 0 | E3: Available Working Hours in Month* | J3: 176
E4: *hours in pay status may not exceed this amount for OCC reimbursement
A5: Employee: | B5: ='August 26'!B5 -> 0 | E5: Employee on Monthly Pay | J5: ='August 26'!J5 -> 0
E6: *enter "Y" for yes; "N" for no
A7: Title: | B7: ='August 26'!B7 -> 0 | E7: Annual Leave Accrual Rate | J7: ='August 26'!J7 -> 0
E8: Annual Leave Accrual Maximum | J8: ='August 26'!J8 -> 0
A9: Month-Year: | B9: 46266 | E9: Sick Leave Accrual Rate | J9: ='August 26'!J9 -> 0
A12: Day of Week | B12: Activities | C12: Reg | D12: AL | E12: SL | F12: H | G12: CTA | H12: CTU | I12: LWOP | J12: TOTAL Hrs in Pay Status
A13: =B9 -> 46266 | J13: =SUM(C13+D13+E13+F13+H13) -> 0
A14: =A13+1 -> 46267 | J14: =SUM(C14+D14+E14+F14+H14) -> 0
A15: =A14+1 -> 46268 | J15: =SUM(C15+D15+E15+F15+H15) -> 0
A16: =A15+1 -> 46269 | J16: =SUM(C16+D16+E16+F16+H16) -> 0
A17: =A16+1 -> 46270 | J17: =SUM(C17+D17+E17+F17+H17) -> 0
A18: =A17+1 -> 46271 | J18: =SUM(C18+D18+E18+F18+H18) -> 0
A19: =A18+1 -> 46272 | J19: =SUM(C19+D19+E19+F19+H19) -> 0
A20: =A19+1 -> 46273 | J20: =SUM(C20+D20+E20+F20+H20) -> 0
A21: =A20+1 -> 46274 | J21: =SUM(C21+D21+E21+F21+H21) -> 0
A22: =A21+1 -> 46275 | J22: =SUM(C22+D22+E22+F22+H22) -> 0
A23: =A22+1 -> 46276 | J23: =SUM(C23+D23+E23+F23+H23) -> 0
A24: =A23+1 -> 46277 | J24: =SUM(C24+D24+E24+F24+H24) -> 0
A25: =A24+1 -> 46278 | J25: =SUM(C25+D25+E25+F25+H25) -> 0
... A42: =A41+1 -> 46295 | J42: =SUM(C42+D42+E42+F42+H42) -> 0
J43: =SUM(C43+D43+E43+F43+H43) -> 0
A44: Total Hrs in Pay Status:** | J44: =SUM(J13:J43) -> 0
A45: ** For those employees on actual hours worked, "Total Hrs in Pay Status" on this form should match "Total Hours in Pay Status" on form OCC-5D (District Employee Payroll Worksheet)
A46: Total Hrs Reported Per Category: | C46: =SUM(C13:C43) -> 0 | D46: =SUM(D13:D43) -> 0 | E46: =SUM(E13:E43) -> 0 | F46: =SUM(F13:F43) -> 0 | G46: =SUM(G13:G43) -> 0 | H46: =SUM(H13:H43) -> 0 | I46: =SUM(I13:I43) -> 0
A48: Leave Summary
C50: Forward | E50: Used | G50: Accrual | I50: Ending
A51: Annual Leave (AL) | C51: ='August 26'!J51 -> 0 | E51: =D46 -> 0 | G51: =IF(J5="Y",J7,(MIN(J7,(SUM(J44/J3)*J7)))) -> 0 | J51: =MIN(J8,(C51-E51+G51)) -> 0
A52: Sick Leave (SL) | C52: ='August 26'!J52 -> 0 | E52: =E46 -> 0 | G52: =IF(J5="Y",J9,(MIN(J9,(SUM(J44/J3)*J9)))) -> 0 | J52: =C52-E52+G52 -> 0
A53: Comp Time (CT) | C53: ='August 26'!J53 -> 0 | E53: =H46 -> 0 | G53: =G46 -> 0 | J53: =C53-E53+G53 -> 0
A58: Employee Signature | D58: Date
A61: OCC/NRCS Supervisor Signature (if applicable) | D61: Date
A64: Supervisor Signature | D64: Date

Sheet October 26
A1: Activity Timesheet & Leave Record
A3: District: | B3: ='September 26'!B3 -> 0 | E3: Available Working Hours in Month* | J3: 176
E4: *hours in pay status may not exceed this amount for OCC reimbursement
A5: Employee: | B5: ='September 26'!B5 -> 0 | E5: Employee on Monthly Pay | J5: ='September 26'!J5 -> 0
E6: *enter "Y" for yes; "N" for no
A7: Title: | B7: ='September 26'!B7 -> 0 | E7: Annual Leave Accrual Rate | J7: ='September 26'!J7 -> 0
E8: Annual Leave Accrual Maximum | J8: ='September 26'!J8 -> 0
A9: Month-Year: | B9: 46296 | E9: Sick Leave Accrual Rate | J9: ='September 26'!J9 -> 0
A12: Day of Week | B12: Activities | C12: Reg | D12: AL | E12: SL | F12: H | G12: CTA | H12: CTU | I12: LWOP | J12: TOTAL Hrs in Pay Status
A13: =B9 -> 46296 | J13: =SUM(C13+D13+E13+F13+H13) -> 0
A14: =A13+1 -> 46297 | J14: =SUM(C14+D14+E14+F14+H14) -> 0
A15: =A14+1 -> 46298 | J15: =SUM(C15+D15+E15+F15+H15) -> 0
A16: =A15+1 -> 46299 | J16: =SUM(C16+D16+E16+F16+H16) -> 0
A17: =A16+1 -> 46300 | J17: =SUM(C17+D17+E17+F17+H17) -> 0
A18: =A17+1 -> 46301 | J18: =SUM(C18+D18+E18+F18+H18) -> 0
A19: =A18+1 -> 46302 | J19: =SUM(C19+D19+E19+F19+H19) -> 0
A20: =A19+1 -> 46303 | J20: =SUM(C20+D20+E20+F20+H20) -> 0
A21: =A20+1 -> 46304 | J21: =SUM(C21+D21+E21+F21+H21) -> 0
A22: =A21+1 -> 46305 | J22: =SUM(C22+D22+E22+F22+H22) -> 0
A23: =A22+1 -> 46306 | J23: =SUM(C23+D23+E23+F23+H23) -> 0
A24: =A23+1 -> 46307 | J24: =SUM(C24+D24+E24+F24+H24) -> 0
A25: =A24+1 -> 46308 | J25: =SUM(C25+D25+E25+F25+H25) -> 0
... A43: =A42+1 -> 46326 | J43: =SUM(C43+D43+E43+F43+H43) -> 0
A44: Total Hrs in Pay Status:** | J44: =SUM(J13:J43) -> 0
A45: ** For those employees on actual hours worked, "Total Hrs in Pay Status" on this form should match "Total Hours in Pay Status" on form OCC-5D (District Employee Payroll Worksheet)
A46: Total Hrs Reported Per Category: | C46: =SUM(C13:C43) -> 0 | D46: =SUM(D13:D43) -> 0 | E46: =SUM(E13:E43) -> 0 | F46: =SUM(F13:F43) -> 0 | G46: =SUM(G13:G43) -> 0 | H46: =SUM(H13:H43) -> 0 | I46: =SUM(I13:I43) -> 0
A48: Leave Summary
C50: Forward | E50: Used | G50: Accrual | I50: Ending
A51: Annual Leave (AL) | C51: ='September 26'!J51 -> 0 | E51: =D46 -> 0 | G51: =IF(J5="Y",J7,(MIN(J7,(SUM(J44/J3)*J7)))) -> 0 | J51: =MIN(J8,(C51-E51+G51)) -> 0
A52: Sick Leave (SL) | C52: ='September 26'!J52 -> 0 | E52: =E46 -> 0 | G52: =IF(J5="Y",J9,(MIN(J9,(SUM(J44/J3)*J9)))) -> 0 | J52: =C52-E52+G52 -> 0
A53: Comp Time (CT) | C53: ='September 26'!J53 -> 0 | E53: =H46 -> 0 | G53: =G46 -> 0 | J53: =C53-E53+G53 -> 0
A58: Employee Signature | D58: Date
A61: OCC/NRCS Supervisor Signature (if applicable) | D61: Date
A64: Supervisor Signature | D64: Date

Sheet November 26
A1: Activity Timesheet & Leave Record
A3: District: | B3: ='October 26'!B3 -> 0 | E3: Available Working Hours in Month* | J3: 168
E4: *hours in pay status may not exceed this amount for OCC reimbursement
A5: Employee: | B5: ='October 26'!B5 -> 0 | E5: Employee on Monthly Pay | J5: ='October 26'!J5 -> 0
E6: *enter "Y" for yes; "N" for no
A7: Title: | B7: ='October 26'!B7 -> 0 | E7: Annual Leave Accrual Rate | J7: ='October 26'!J7 -> 0
E8: Annual Leave Accrual Maximum | J8: ='October 26'!J8 -> 0
A9: Month-Year: | B9: 46327 | E9: Sick Leave Accrual Rate | J9: ='October 26'!J9 -> 0
A12: Day of Week | B12: Activities | C12: Reg | D12: AL | E12: SL | F12: H | G12: CTA | H12: CTU | I12: LWOP | J12: TOTAL Hrs in Pay Status
A13: =B9 -> 46327 | J13: =SUM(C13+D13+E13+F13+H13) -> 0
A14: =A13+1 -> 46328 | J14: =SUM(C14+D14+E14+F14+H14) -> 0
A15: =A14+1 -> 46329 | J15: =SUM(C15+D15+E15+F15+H15) -> 0
A16: =A15+1 -> 46330 | J16: =SUM(C16+D16+E16+F16+H16) -> 0
A17: =A16+1 -> 46331 | J17: =SUM(C17+D17+E17+F17+H17) -> 0
A18: =A17+1 -> 46332 | J18: =SUM(C18+D18+E18+F18+H18) -> 0
A19: =A18+1 -> 46333 | J19: =SUM(C19+D19+E19+F19+H19) -> 0
A20: =A19+1 -> 46334 | J20: =SUM(C20+D20+E20+F20+H20) -> 0
A21: =A20+1 -> 46335 | J21: =SUM(C21+D21+E21+F21+H21) -> 0
A22: =A21+1 -> 46336 | J22: =SUM(C22+D22+E22+F22+H22) -> 0
A23: =A22+1 -> 46337 | J23: =SUM(C23+D23+E23+F23+H23) -> 0
A24: =A23+1 -> 46338 | J24: =SUM(C24+D24+E24+F24+H24) -> 0
A25: =A24+1 -> 46339 | J25: =SUM(C25+D25+E25+F25+H25) -> 0
... A42: =A41+1 -> 46356 | J42: =SUM(C42+D42+E42+F42+H42) -> 0
J43: =SUM(C43+D43+E43+F43+H43) -> 0
A44: Total Hrs in Pay Status:** | J44: =SUM(J13:J43) -> 0
A45: ** For those employees on actual hours worked, "Total Hrs in Pay Status" on this form should match "Total Hours in Pay Status" on form OCC-5D (District Employee Payroll Worksheet)
A46: Total Hrs Reported Per Category: | C46: =SUM(C13:C43) -> 0 | D46: =SUM(D13:D43) -> 0 | E46: =SUM(E13:E43) -> 0 | F46: =SUM(F13:F43) -> 0 | G46: =SUM(G13:G43) -> 0 | H46: =SUM(H13:H43) -> 0 | I46: =SUM(I13:I43) -> 0
A48: Leave Summary
C50: Forward | E50: Used | G50: Accrual | I50: Ending
A51: Annual Leave (AL) | C51: ='October 26'!J51 -> 0 | E51: =D46 -> 0 | G51: =IF(J5="Y",J7,(MIN(J7,(SUM(J44/J3)*J7)))) -> 0 | J51: =MIN(J8,(C51-E51+G51)) -> 0
A52: Sick Leave (SL) | C52: ='October 26'!J52 -> 0 | E52: =E46 -> 0 | G52: =IF(J5="Y",J9,(MIN(J9,(SUM(J44/J3)*J9)))) -> 0 | J52: =C52-E52+G52 -> 0
A53: Comp Time (CT) | C53: ='October 26'!J53 -> 0 | E53: =H46 -> 0 | G53: =G46 -> 0 | J53: =C53-E53+G53 -> 0
A58: Employee Signature | D58: Date
A61: OCC/NRCS Supervisor Signature (if applicable) | D61: Date
A64: Supervisor Signature | D64: Date

Sheet December 26
A1: Activity Timesheet & Leave Record
A3: District: | B3: ='November 26'!B3 -> 0 | E3: Available Working Hours in Month* | J3: 184
E4: *hours in pay status may not exceed this amount for OCC reimbursement
A5: Employee: | B5: ='November 26'!B5 -> 0 | E5: Employee on Monthly Pay | J5: ='November 26'!J5 -> 0
E6: *enter "Y" for yes; "N" for no
A7: Title: | B7: ='November 26'!B7 -> 0 | E7: Annual Leave Accrual Rate | J7: ='November 26'!J7 -> 0
E8: Annual Leave Accrual Maximum | J8: ='November 26'!J8 -> 0
A9: Month-Year: | B9: 46357 | E9: Sick Leave Accrual Rate | J9: ='November 26'!J9 -> 0
A12: Day of Week | B12: Activities | C12: Reg | D12: AL | E12: SL | F12: H | G12: CTA | H12: CTU | I12: LWOP | J12: TOTAL Hrs in Pay Status
A13: =B9 -> 46357 | J13: =SUM(C13+D13+E13+F13+H13) -> 0
A14: =A13+1 -> 46358 | J14: =SUM(C14+D14+E14+F14+H14) -> 0
A15: =A14+1 -> 46359 | J15: =SUM(C15+D15+E15+F15+H15) -> 0
A16: =A15+1 -> 46360 | J16: =SUM(C16+D16+E16+F16+H16) -> 0
A17: =A16+1 -> 46361 | J17: =SUM(C17+D17+E17+F17+H17) -> 0
A18: =A17+1 -> 46362 | J18: =SUM(C18+D18+E18+F18+H18) -> 0
A19: =A18+1 -> 46363 | J19: =SUM(C19+D19+E19+F19+H19) -> 0
A20: =A19+1 -> 46364 | J20: =SUM(C20+D20+E20+F20+H20) -> 0
A21: =A20+1 -> 46365 | J21: =SUM(C21+D21+E21+F21+H21) -> 0
A22: =A21+1 -> 46366 | J22: =SUM(C22+D22+E22+F22+H22) -> 0
A23: =A22+1 -> 46367 | J23: =SUM(C23+D23+E23+F23+H23) -> 0
A24: =A23+1 -> 46368 | J24: =SUM(C24+D24+E24+F24+H24) -> 0
A25: =A24+1 -> 46369 | J25: =SUM(C25+D25+E25+F25+H25) -> 0
... A43: =A42+1 -> 46387 | J43: =SUM(C43+D43+E43+F43+H43) -> 0
A44: Total Hrs in Pay Status:** | J44: =SUM(J13:J43) -> 0
A45: ** For those employees on actual hours worked, "Total Hrs in Pay Status" on this form should match "Total Hours in Pay Status" on form OCC-5D (District Employee Payroll Worksheet)
A46: Total Hrs Reported Per Category: | C46: =SUM(C13:C43) -> 0 | D46: =SUM(D13:D43) -> 0 | E46: =SUM(E13:E43) -> 0 | F46: =SUM(F13:F43) -> 0 | G46: =SUM(G13:G43) -> 0 | H46: =SUM(H13:H43) -> 0 | I46: =SUM(I13:I43) -> 0
A48: Leave Summary
C50: Forward | E50: Used | G50: Accrual | I50: Ending
A51: Annual Leave (AL) | C51: ='November 26'!J51 -> 0 | E51: =D46 -> 0 | G51: =IF(J5="Y",J7,(MIN(J7,(SUM(J44/J3)*J7)))) -> 0 | J51: =MIN(J8,(C51-E51+G51)) -> 0
A52: Sick Leave (SL) | C52: ='November 26'!J52 -> 0 | E52: =E46 -> 0 | G52: =IF(J5="Y",J9,(MIN(J9,(SUM(J44/J3)*J9)))) -> 0 | J52: =C52-E52+G52 -> 0
A53: Comp Time (CT) | C53: ='November 26'!J53 -> 0 | E53: =H46 -> 0 | G53: =G46 -> 0 | J53: =C53-E53+G53 -> 0
A58: Employee Signature | D58: Date
A61: OCC/NRCS Supervisor Signature (if applicable) | D61: Date
A64: Supervisor Signature | D64: Date
